BEGIN:VCALENDAR
VERSION:2.0
PRODID:-//MTB Biking | - ECPv6.15.20//NONSGML v1.0//EN
CALSCALE:GREGORIAN
METHOD:PUBLISH
X-ORIGINAL-URL:https://mountain-bike-morocco.com
X-WR-CALDESC:Events for MTB Biking |
REFRESH-INTERVAL;VALUE=DURATION:PT1H
X-Robots-Tag:noindex
X-PUBLISHED-TTL:PT1H
BEGIN:VTIMEZONE
TZID:Europe/Paris
BEGIN:DAYLIGHT
TZOFFSETFROM:+0100
TZOFFSETTO:+0200
TZNAME:CEST
DTSTART:20250330T010000
END:DAYLIGHT
BEGIN:STANDARD
TZOFFSETFROM:+0200
TZOFFSETTO:+0100
TZNAME:CET
DTSTART:20251026T010000
END:STANDARD
BEGIN:DAYLIGHT
TZOFFSETFROM:+0100
TZOFFSETTO:+0200
TZNAME:CEST
DTSTART:20260329T010000
END:DAYLIGHT
BEGIN:STANDARD
TZOFFSETFROM:+0200
TZOFFSETTO:+0100
TZNAME:CET
DTSTART:20261025T010000
END:STANDARD
BEGIN:DAYLIGHT
TZOFFSETFROM:+0100
TZOFFSETTO:+0200
TZNAME:CEST
DTSTART:20270328T010000
END:DAYLIGHT
BEGIN:STANDARD
TZOFFSETFROM:+0200
TZOFFSETTO:+0100
TZNAME:CET
DTSTART:20271031T010000
END:STANDARD
BEGIN:DAYLIGHT
TZOFFSETFROM:+0100
TZOFFSETTO:+0200
TZNAME:CEST
DTSTART:20280326T010000
END:DAYLIGHT
BEGIN:STANDARD
TZOFFSETFROM:+0200
TZOFFSETTO:+0100
TZNAME:CET
DTSTART:20281029T010000
END:STANDARD
BEGIN:DAYLIGHT
TZOFFSETFROM:+0100
TZOFFSETTO:+0200
TZNAME:CEST
DTSTART:20290325T010000
END:DAYLIGHT
BEGIN:STANDARD
TZOFFSETFROM:+0200
TZOFFSETTO:+0100
TZNAME:CET
DTSTART:20291028T010000
END:STANDARD
END:VTIMEZONE
BEGIN:VEVENT
DTSTART;VALUE=DATE:20260202
DTEND;VALUE=DATE:20280701
DTSTAMP:20260420T105609
CREATED:20260214T031841Z
LAST-MODIFIED:20260310T004417Z
UID:10492-1769990400-1846022399@mountain-bike-morocco.com
SUMMARY:Deluxe 8-Day e-biking tour Morocco
DESCRIPTION:8-Day Deluxe Electric Mountain Biking Tour Amidst Morocco’s Atlas Peaks\n \nGet ready for an adventure of a lifetime as you pedal through the heart of the Atlas Mountains\, experience the warm hospitality of the Berber communities\, and revel in the luxurious elements that this tour has to offer. \n\n8 DAYS / 7 NIGHTS\n LUXURY / DELUXE\n PREMIUM E-BIKE (E-MTB)\n HIGH ATLAS / AGAFAY DESERT\n\nOverview\nEmbark on a journey of unparalleled luxury and adventure with our Atlas Elite: Deluxe E-Biking Expedition. This meticulously crafted 8-day odyssey is designed for those who seek an opulent experience while exploring the raw\, rugged heart of the High Atlas Mountains. Traverse ancient Berber settlements and secret valleys on state-of-the-art electric mountain bikes that effortlessly bridge the gap between advanced technology and wild terrain. \nFrom the snow-capped peaks of Toubkal National Park to the shimmering dunes of the Agafay Desert\, every detail of this tour is refined for excellence. You will stay in Morocco’s premier boutique Kasbahs\, savor gourmet traditional cuisine\, and connect with local culture in a way few ever experience. This is the definitive “no-compromise” adventure for riders who demand both a physical challenge and high-end comfort \nTrip facts:\nTrip length : 8 days / 7 nights\nGroup size : Min 2\, max 12 persons \n\nLocation\n\nThis luxury e-bike adventure takes place in the High Atlas Mountains of Morocco\, just a short drive from the vibrant city of Marrakech. The High Atlas Mountains are a spectacular setting for a mountain biking trip with hundreds of miles of dusty single-track just waiting to be explored. With many years of experience guiding in the region\, your local hosts can help you explore this region’s hidden riding potential. \nThe scenery makes for an impressive backdrop to your journey. The rugged and remote terrain has resisted the pressured of the modern world and feels like a window into a bygone era. Dramatic valleys offer vivid contrasts with the lush green irrigated fields along the valley bottom set against the barren rocky scree slopes that lead up to the snow-capped peaks. \n\n \n\n\n\n\n\n\n\n\n\n\n\n\n\n\n\n\n\n\n\n\n\n\n\nThe Deluxe Expedition Itinerary\n\nDay 1: Marrakech Arrival – Private VIP greeting and transfer to a historic boutique Riad in the heart of the Medina. \nDay 2: Ourika Valley to Imlil – Ride through the lush Ourika Valley. Conquer the Tadmamt pass with electric ease and descend into the mountain trailhead of Imlil for a luxury Kasbah stay. \nDay 3: The High Pass (2300m) – Weave up the zig-zag trails to Tizi n’Tamaterte. Enjoy iconic views of Toubkal peak followed by a descent through the ancient terraces of the Imenan Valley. \nDay 4: Azzaden & Ouirgane Park – Ride technical singletracks and easy mountain roads through the colorful Azzaden Valley and the summit of Ouirgane National Park. \nDay 5: Amizmiz Foothills – Traverse ancient olive groves and the Ouzla pass. Glide through the flowing off-road tracks of the Amizmiz Valley toward your luxury forest lodge. \nDay 6: Desert Agafay & Sunset – Transition from high mountains to the “Stone Desert” of Agafay. Cycle the desert tracks before a sunset celebration and transfer back to Marrakech. \nDay 7: The Red City Leisure – A free day to explore the palaces\, souks\, and vibrant energy of Marrakech at your own pace. \nDay 8: Departure – Final leisure morning and private transfer to Marrakech Airport for your flight home. \n\nThe Luxury Experience Includes\n\n7 Nights in Morocco’s Finest Luxury Kasbahs & Boutique Riads\nPremium Full-Suspension E-MTB & Helmet Hire\nExpert Multi-lingual Adventure Guide & Technical Support\nFull Support 4WD Vehicle with Luggage Concierge\nAll Gourmet Meals (Trail Lunch & Fine-Dining Dinners)\nPrivate VIP Airport & City Transfers\n\nDoes not Include\n\nTravel Insurance\nTips\nAny Private Expenses\nDrinks and Items of personal nature\nMeals in Marrakech\n\n\nEssential Equipment* \n\nNormal daily clothes\nPadded cycling shorts and gloves\nBreathable top or cycling jersey\nSunglasses/eye protection\nStiff-soled shoes suitable for cycling\nWaterproofs\nLong cycling trousers\nWarmer layers for earlier departures\nSun cream\nWater bottle or Camelback\nEnergy gels/Energy bars\n\n*we recommend packing the following items \nEnergy cycling gels offer a quick form of crabs replenishment. Most contain the simple crab sugar\, which is the fastest form of energy to replace glycogen. It’s suggested that people who cycle at a moderate intensity for more than 90 minutes\, need to replace between 30g and 65g of carbohydrates per hour and we would thoroughly recommend bringing some of these with you\, as well as some energy bars. \nAccommodation\nDuring this adventure\, you will be staying in luxury boutique hotels & riads. \n \nBook This Adventure
URL:https://mountain-bike-morocco.com/event/deluxe-e-biking-tour-morocco/
CATEGORIES:E-MTB Tour,Sports
ATTACH;FMTTYPE=image/jpeg:https://mountain-bike-morocco.com/wp-content/uploads/2026/02/deluxe-e-biking-tour-morocco-4.jpg
END:VEVENT
END:VCALENDAR