BEGIN:VCALENDAR
VERSION:2.0
PRODID:-//MTB Biking | - ECPv6.15.20//NONSGML v1.0//EN
CALSCALE:GREGORIAN
METHOD:PUBLISH
X-WR-CALNAME:MTB Biking |
X-ORIGINAL-URL:https://mountain-bike-morocco.com
X-WR-CALDESC:Events for MTB Biking |
REFRESH-INTERVAL;VALUE=DURATION:PT1H
X-Robots-Tag:noindex
X-PUBLISHED-TTL:PT1H
BEGIN:VTIMEZONE
TZID:Europe/Paris
BEGIN:DAYLIGHT
TZOFFSETFROM:+0100
TZOFFSETTO:+0200
TZNAME:CEST
DTSTART:20250330T010000
END:DAYLIGHT
BEGIN:STANDARD
TZOFFSETFROM:+0200
TZOFFSETTO:+0100
TZNAME:CET
DTSTART:20251026T010000
END:STANDARD
BEGIN:DAYLIGHT
TZOFFSETFROM:+0100
TZOFFSETTO:+0200
TZNAME:CEST
DTSTART:20260329T010000
END:DAYLIGHT
BEGIN:STANDARD
TZOFFSETFROM:+0200
TZOFFSETTO:+0100
TZNAME:CET
DTSTART:20261025T010000
END:STANDARD
BEGIN:DAYLIGHT
TZOFFSETFROM:+0100
TZOFFSETTO:+0200
TZNAME:CEST
DTSTART:20270328T010000
END:DAYLIGHT
BEGIN:STANDARD
TZOFFSETFROM:+0200
TZOFFSETTO:+0100
TZNAME:CET
DTSTART:20271031T010000
END:STANDARD
BEGIN:DAYLIGHT
TZOFFSETFROM:+0100
TZOFFSETTO:+0200
TZNAME:CEST
DTSTART:20280326T010000
END:DAYLIGHT
BEGIN:STANDARD
TZOFFSETFROM:+0200
TZOFFSETTO:+0100
TZNAME:CET
DTSTART:20281029T010000
END:STANDARD
BEGIN:DAYLIGHT
TZOFFSETFROM:+0100
TZOFFSETTO:+0200
TZNAME:CEST
DTSTART:20290325T010000
END:DAYLIGHT
BEGIN:STANDARD
TZOFFSETFROM:+0200
TZOFFSETTO:+0100
TZNAME:CET
DTSTART:20291028T010000
END:STANDARD
END:VTIMEZONE
BEGIN:VEVENT
DTSTART;VALUE=DATE:20260206
DTEND;VALUE=DATE:20280701
DTSTAMP:20260420T102147
CREATED:20260212T205703Z
LAST-MODIFIED:20260308T012046Z
UID:10422-1770336000-1846022399@mountain-bike-morocco.com
SUMMARY:Saghro 8-Day Morocco MTB Tour
DESCRIPTION:Explore the Majestic Saghro Mountains on a 8-Day Biking Tour in Morocco \nEmbark on an unforgettable 7-day biking adventure that leads you through the rugged and breathtaking landscapes of the Saghro Mountains in Morocco. Our meticulously designed tour offers a unique opportunity to immerse yourself in the natural beauty\, cultural heritage\, and thrilling biking trails of this captivating region. \n\n8 DAYS / 7 NIGHTS\n INTERMEDIATE\n PREMIUM E-BIKE (E-MTB)\n ATLAS MOUNTAINS / SAHARA\n\nOverview\nImmerse yourself in a legendary 8-day E-bike adventure through the soul of South Morocco. This sustainable journey takes you from the bustling Medina of Marrakech across the snow-capped High Atlas Mountains\, descending into the prehistoric Draa Valley and the golden dunes of the Sahara Desert. \nOur premium electric mountain bikes allow you to navigate ancient mule tracks and dusty off-roads with ease. You will explore UNESCO World Heritage sites like Ait Benhaddou\, visit the remote Kasbah Telouet\, and share mint tea with traditional Berber families in villages untouched by time. This is a journey of a lifetime\, combining rugged trail riding with authentic cultural immersion and legendary desert hospitality. \n\nTrip facts:\nTrip length : 8 days / 7 nights\nGroup size : Min 2\, max 12 persons \nLocation\n\nThis bike adventure takes place in the South of Morocco\, drive from the vibrant city of Marrakech. The High Atlas Mountains are a spectacular setting for a mountain biking trip with hundreds of miles of dusty off road just waiting to be explored. With many years of experience guiding in the region\, your local hosts can help you explore this region’s hidden riding potential. \nThe south of Morocco offers you a multitude of breath-taking landscapes. Besides the panorama of wild mountains in the Atlas mountain range\, you will discover the expanse of the Sahara with its Bedouin villages and admire the incomparable starry sky. Palm groves and avenues of almond trees line the road. Along the Atlantic Coast you discover strange rock formations\, magnificent sandy beaches and azure blue colours. For sure you won’t miss the mysterious atmosphere of the 1001 nights in Marrakech and the Bedouin towns… This bike tour has many surprises in store for you! \n\n\n\n\n\n\n\n\n\n\n\n\n\n\n\n\n\n\n\n\n\n\n\nThe Itinerary\n\n\nDay 1: Marrakech Arrival – Airport transfer and welcome to your traditional Riad in the heart of the Medina. \nDay 2: High Atlas Crossing – Drive via the Tizi N’Tichka pass (2260m) to Telouet. Start your ride through the stunning Ounila Valley toward Ait Benhaddou. \nDay 3: Oases of Skoura – Explore the world-famous UNESCO clay settlements before riding through the Skoura palm groves to Kasbah Amridil. \nDay 4: Dades Gorges & Nomadic Life – Traverse the Taslmante Valley and Boutgherar to visit nomadic Berber families living in ancient caves. \nDay 5: Volcanic Jbel Saghro – Conquer the technical Tizi N’Tzazert pass (2200m) with panoramic views of the volcanic mountain range. \nDay 6: Draa Valley to Zagora – Ride through lush watermelon and honey fields. Trade your bike for a camel and sleep under the stars in a Sahara desert camp. \nDay 7: The Great Oasis Ride – Cycle under thousands of palm trees through the Draa Valley oases before returning to Marrakech. \nDay 8: Departure – Final souk shopping and transfer to Marrakech Airport. \n\nWhat’s Included\n\n2 Nights Hotel/Riads in Marrakech on BB\nProfessional English-Speaking MTB Guide\nFull Support Vehicle & Mechanical Assistance\nAll Airport Transfers & Private Ground Transport\n7 Nights Accommodation (Riads\, Guesthouses\, and Sahara Desert Camp)\nAll meals during cycling stages\nPremium Full-Suspension E-Bike Hire (available as extra)\n\nDoes not Include\n\nTravel Insurance\nTips\nAny Private Expenses\nDrinks and Items of personal nature\nMeals in Marrakech\nBike hire (Full Suspension) + Helmet (available to rent from our bike shop)\n\nEssential Equipment* \n\nNormal daily clothes\nPadded cycling shorts and gloves\nBreathable top or cycling jersey\nSunglasses/eye protection\nStiff-soled shoes suitable for cycling\nWaterproofs\nLong cycling trousers\nWarmer layers for earlier departures\nSun cream\nWater bottle or Camelback\nEnergy gels/Energy bars\n\n*we recommend packing the following items \nEnergy cycling gels offer a quick form of crabs replenishment. Most contain the simple crab sugar\, which is the fastest form of energy to replace glycogen. It’s suggested that people who cycle at a moderate intensity for more than 90 minutes\, need to replace between 30g and 65g of carbohydrates per hour and we would thoroughly recommend bringing some of these with you\, as well as some energy bars. \nAccommodation\nDuring this bike adventure\, you will be staying in hotels & riads\, but we can also update the accommodation suits your needs. \n \nBook This Adventure
URL:https://mountain-bike-morocco.com/event/saghro-morocco-mtb-tour/
CATEGORIES:Mountain Biking,Sports
ATTACH;FMTTYPE=image/jpeg:https://mountain-bike-morocco.com/wp-content/uploads/2026/02/saghro-morocco-mtb-tour-2.jpg
END:VEVENT
END:VCALENDAR